BEGIN:VCALENDAR
VERSION:2.0
PRODID:-//Arts Council for Monterey County - ECPv6.15.14//NONSGML v1.0//EN
CALSCALE:GREGORIAN
METHOD:PUBLISH
X-WR-CALNAME:Arts Council for Monterey County
X-ORIGINAL-URL:https://arts4mc.org
X-WR-CALDESC:Events for Arts Council for Monterey County
REFRESH-INTERVAL;VALUE=DURATION:PT1H
X-Robots-Tag:noindex
X-PUBLISHED-TTL:PT1H
BEGIN:VTIMEZONE
TZID:America/Los_Angeles
BEGIN:DAYLIGHT
TZOFFSETFROM:-0800
TZOFFSETTO:-0700
TZNAME:PDT
DTSTART:20220313T100000
END:DAYLIGHT
BEGIN:STANDARD
TZOFFSETFROM:-0700
TZOFFSETTO:-0800
TZNAME:PST
DTSTART:20221106T090000
END:STANDARD
BEGIN:DAYLIGHT
TZOFFSETFROM:-0800
TZOFFSETTO:-0700
TZNAME:PDT
DTSTART:20230312T100000
END:DAYLIGHT
BEGIN:STANDARD
TZOFFSETFROM:-0700
TZOFFSETTO:-0800
TZNAME:PST
DTSTART:20231105T090000
END:STANDARD
BEGIN:DAYLIGHT
TZOFFSETFROM:-0800
TZOFFSETTO:-0700
TZNAME:PDT
DTSTART:20240310T100000
END:DAYLIGHT
BEGIN:STANDARD
TZOFFSETFROM:-0700
TZOFFSETTO:-0800
TZNAME:PST
DTSTART:20241103T090000
END:STANDARD
END:VTIMEZONE
BEGIN:VEVENT
DTSTART;TZID=America/Los_Angeles:20230326T130000
DTEND;TZID=America/Los_Angeles:20230326T160000
DTSTAMP:20260423T232038
CREATED:20230307T061834Z
LAST-MODIFIED:20230307T061834Z
UID:20686-1679835600-1679846400@arts4mc.org
SUMMARY:Going with the Flow: Meditation and wet-on-wet Watercolor Painting
DESCRIPTION:Not only will you be making works of beauty\, regardless of skill level\, but you will also be practicing letting go. This style of painting by applying watercolors on wet paper teaches the artist to go with the flow and to be part of a process of a painting emerging intuitively. Besides the painting practice\, there will be meditation time of coming to an empty mind.\n\nAs a Waldorf teacher\, Janaka Stagnaro taught this painting method to children and adults for over 25 years. His studio is in downtown Carmel. Basic student supplies of 9×12 paper\, brushes\, and paint will be supplied\, along with watercolor crayons and pencils. If higher quality supplies are desired please bring them (the paper cannot be larger than 9×12).
URL:https://arts4mc.org/event/going-with-the-flow-meditation-and-wet-on-wet-watercolor-painting/
ATTACH;FMTTYPE=image/jpeg:https://arts4mc.org/wp-content/uploads/2023/03/Colorful-Simple-Minimalist-Illustration-Watercolor-World-Art-Day-Instagram-Post-1.jpg
END:VEVENT
END:VCALENDAR