BEGIN:VCALENDAR
VERSION:2.0
PRODID:-//Arts Council for Monterey County - ECPv6.15.14//NONSGML v1.0//EN
CALSCALE:GREGORIAN
METHOD:PUBLISH
X-WR-CALNAME:Arts Council for Monterey County
X-ORIGINAL-URL:https://arts4mc.org
X-WR-CALDESC:Events for Arts Council for Monterey County
REFRESH-INTERVAL;VALUE=DURATION:PT1H
X-Robots-Tag:noindex
X-PUBLISHED-TTL:PT1H
BEGIN:VTIMEZONE
TZID:America/Los_Angeles
BEGIN:DAYLIGHT
TZOFFSETFROM:-0800
TZOFFSETTO:-0700
TZNAME:PDT
DTSTART:20230312T100000
END:DAYLIGHT
BEGIN:STANDARD
TZOFFSETFROM:-0700
TZOFFSETTO:-0800
TZNAME:PST
DTSTART:20231105T090000
END:STANDARD
BEGIN:DAYLIGHT
TZOFFSETFROM:-0800
TZOFFSETTO:-0700
TZNAME:PDT
DTSTART:20240310T100000
END:DAYLIGHT
BEGIN:STANDARD
TZOFFSETFROM:-0700
TZOFFSETTO:-0800
TZNAME:PST
DTSTART:20241103T090000
END:STANDARD
BEGIN:DAYLIGHT
TZOFFSETFROM:-0800
TZOFFSETTO:-0700
TZNAME:PDT
DTSTART:20250309T100000
END:DAYLIGHT
BEGIN:STANDARD
TZOFFSETFROM:-0700
TZOFFSETTO:-0800
TZNAME:PST
DTSTART:20251102T090000
END:STANDARD
END:VTIMEZONE
BEGIN:VEVENT
DTSTART;TZID=America/Los_Angeles:20240705T173000
DTEND;TZID=America/Los_Angeles:20240930T140000
DTSTAMP:20260423T153651
CREATED:20240627T165723Z
LAST-MODIFIED:20240627T165723Z
UID:28359-1720200600-1727704800@arts4mc.org
SUMMARY:Glaze\, Stain\, Pour: Embodied Alter-Tales Art Exhibit at ArtWorks @Salinas
DESCRIPTION:Opening Friday\, July 5th through Sunday\, September 30th\, visit ArtWorks @Salinas to see the latest exhibit\, “Glaze\, Stain\, Pour: Embodied Alter-Tales” featuring paintings by Dani Torvik. The public is invited to visit ArtWorks @Salinas from Friday – Sunday from 10 am – 2 pm weekly.\n\nThere will also be special artist receptions to be held on the first Friday of each month during the exhibit\, starting at 5:30 pm the first Friday of July\, August\, and September\, to see the art\, meet the artist\, and enjoy tasty refreshments and appetizers.\n\nThis exhibit is free and open to the public. We look forward to seeing you!
URL:https://arts4mc.org/event/glaze-stain-pour-embodied-alter-tales-art-exhibit-at-artworks-salinas/
LOCATION:ArtWorks @Salinas\, 262 Main Street\, Salinas\, CA\, 93901\, United States
ATTACH;FMTTYPE=image/jpeg:https://arts4mc.org/wp-content/uploads/2024/06/DaniTorvik5-1-1.jpg
ORGANIZER;CN="Arts Council for Monterey County":MAILTO:info@arts4mc.org
GEO:36.6740282;-121.6552064
X-APPLE-STRUCTURED-LOCATION;VALUE=URI;X-ADDRESS=ArtWorks @Salinas 262 Main Street Salinas CA 93901 United States;X-APPLE-RADIUS=500;X-TITLE=262 Main Street:geo:-121.6552064,36.6740282
END:VEVENT
END:VCALENDAR