BEGIN:VCALENDAR
VERSION:2.0
PRODID:-//Arts Council for Monterey County - ECPv6.15.14//NONSGML v1.0//EN
CALSCALE:GREGORIAN
METHOD:PUBLISH
X-WR-CALNAME:Arts Council for Monterey County
X-ORIGINAL-URL:https://arts4mc.org
X-WR-CALDESC:Events for Arts Council for Monterey County
REFRESH-INTERVAL;VALUE=DURATION:PT1H
X-Robots-Tag:noindex
X-PUBLISHED-TTL:PT1H
BEGIN:VTIMEZONE
TZID:America/Los_Angeles
BEGIN:DAYLIGHT
TZOFFSETFROM:-0800
TZOFFSETTO:-0700
TZNAME:PDT
DTSTART:20220313T100000
END:DAYLIGHT
BEGIN:STANDARD
TZOFFSETFROM:-0700
TZOFFSETTO:-0800
TZNAME:PST
DTSTART:20221106T090000
END:STANDARD
BEGIN:DAYLIGHT
TZOFFSETFROM:-0800
TZOFFSETTO:-0700
TZNAME:PDT
DTSTART:20230312T100000
END:DAYLIGHT
BEGIN:STANDARD
TZOFFSETFROM:-0700
TZOFFSETTO:-0800
TZNAME:PST
DTSTART:20231105T090000
END:STANDARD
BEGIN:DAYLIGHT
TZOFFSETFROM:-0800
TZOFFSETTO:-0700
TZNAME:PDT
DTSTART:20240310T100000
END:DAYLIGHT
BEGIN:STANDARD
TZOFFSETFROM:-0700
TZOFFSETTO:-0800
TZNAME:PST
DTSTART:20241103T090000
END:STANDARD
END:VTIMEZONE
BEGIN:VEVENT
DTSTART;TZID=America/Los_Angeles:20230616T173000
DTEND;TZID=America/Los_Angeles:20230616T220000
DTSTAMP:20260425T144508
CREATED:20230404T190117Z
LAST-MODIFIED:20230404T190117Z
UID:21185-1686936600-1686952800@arts4mc.org
SUMMARY:Four Seasons Party
DESCRIPTION:Join us for a scintillating evening benefitting the Monterey Symphony in the historic Cooper Molera Adobe barn. Enjoy musical moments from Monterey Symphony musicians\, the Dave Holodiloff Trio\, and a dance party with the Anthony Lane Band!
URL:https://arts4mc.org/event/four-seasons-party/
LOCATION:Cooper Molera Adobe\, 525 Polk St\,\, Monterey\, CA\, 93940\, United States
ATTACH;FMTTYPE=image/jpeg:https://arts4mc.org/wp-content/uploads/2023/04/4seasons-party-3.jpg
ORGANIZER;CN="Monterey Symphony":MAILTO:info@montereysymphony.org
GEO:36.5975578;-121.8949919
X-APPLE-STRUCTURED-LOCATION;VALUE=URI;X-ADDRESS=Cooper Molera Adobe 525 Polk St Monterey CA 93940 United States;X-APPLE-RADIUS=500;X-TITLE=525 Polk St\,:geo:-121.8949919,36.5975578
END:VEVENT
END:VCALENDAR