BEGIN:VCALENDAR
VERSION:2.0
PRODID:-//Arts Council for Monterey County - ECPv6.15.14//NONSGML v1.0//EN
CALSCALE:GREGORIAN
METHOD:PUBLISH
X-WR-CALNAME:Arts Council for Monterey County
X-ORIGINAL-URL:https://arts4mc.org
X-WR-CALDESC:Events for Arts Council for Monterey County
REFRESH-INTERVAL;VALUE=DURATION:PT1H
X-Robots-Tag:noindex
X-PUBLISHED-TTL:PT1H
BEGIN:VTIMEZONE
TZID:America/Los_Angeles
BEGIN:DAYLIGHT
TZOFFSETFROM:-0800
TZOFFSETTO:-0700
TZNAME:PDT
DTSTART:20230312T100000
END:DAYLIGHT
BEGIN:STANDARD
TZOFFSETFROM:-0700
TZOFFSETTO:-0800
TZNAME:PST
DTSTART:20231105T090000
END:STANDARD
BEGIN:DAYLIGHT
TZOFFSETFROM:-0800
TZOFFSETTO:-0700
TZNAME:PDT
DTSTART:20240310T100000
END:DAYLIGHT
BEGIN:STANDARD
TZOFFSETFROM:-0700
TZOFFSETTO:-0800
TZNAME:PST
DTSTART:20241103T090000
END:STANDARD
BEGIN:DAYLIGHT
TZOFFSETFROM:-0800
TZOFFSETTO:-0700
TZNAME:PDT
DTSTART:20250309T100000
END:DAYLIGHT
BEGIN:STANDARD
TZOFFSETFROM:-0700
TZOFFSETTO:-0800
TZNAME:PST
DTSTART:20251102T090000
END:STANDARD
END:VTIMEZONE
BEGIN:VEVENT
DTSTART;TZID=America/Los_Angeles:20241004T170000
DTEND;TZID=America/Los_Angeles:20241004T190000
DTSTAMP:20260422T074926
CREATED:20240927T201125Z
LAST-MODIFIED:20240927T201125Z
UID:42999-1728061200-1728068400@arts4mc.org
SUMMARY:First Friday - Monterey Museum of Art
DESCRIPTION:Enjoy FREE after-hours access at the Museum on the First Friday in October. Join us for a fun-filled evening with art\, music\, and refreshments\, and create your own comic book collage project inspired by Belle Yang’s art and graphic novels. Featuring live music by Glenn Bell. Refreshments available for purchase from Albatross Ridge and Other Brother Beer Co.
URL:https://arts4mc.org/event/first-friday-monterey-museum-of-art-8/
LOCATION:559 Pacific St\, Monterey\, CA\, United States\, California
ATTACH;FMTTYPE=image/jpeg:https://arts4mc.org/wp-content/uploads/2024/09/FF-Graphic.jpeg
ORGANIZER;CN="Monterey Museum of Art":MAILTO:info@montereyart.org
END:VEVENT
END:VCALENDAR