BEGIN:VCALENDAR
VERSION:2.0
PRODID:-//Arts Council for Monterey County - ECPv6.15.14//NONSGML v1.0//EN
CALSCALE:GREGORIAN
METHOD:PUBLISH
X-WR-CALNAME:Arts Council for Monterey County
X-ORIGINAL-URL:https://arts4mc.org
X-WR-CALDESC:Events for Arts Council for Monterey County
REFRESH-INTERVAL;VALUE=DURATION:PT1H
X-Robots-Tag:noindex
X-PUBLISHED-TTL:PT1H
BEGIN:VTIMEZONE
TZID:America/Los_Angeles
BEGIN:DAYLIGHT
TZOFFSETFROM:-0800
TZOFFSETTO:-0700
TZNAME:PDT
DTSTART:20240310T100000
END:DAYLIGHT
BEGIN:STANDARD
TZOFFSETFROM:-0700
TZOFFSETTO:-0800
TZNAME:PST
DTSTART:20241103T090000
END:STANDARD
BEGIN:DAYLIGHT
TZOFFSETFROM:-0800
TZOFFSETTO:-0700
TZNAME:PDT
DTSTART:20250309T100000
END:DAYLIGHT
BEGIN:STANDARD
TZOFFSETFROM:-0700
TZOFFSETTO:-0800
TZNAME:PST
DTSTART:20251102T090000
END:STANDARD
BEGIN:DAYLIGHT
TZOFFSETFROM:-0800
TZOFFSETTO:-0700
TZNAME:PDT
DTSTART:20260308T100000
END:DAYLIGHT
BEGIN:STANDARD
TZOFFSETFROM:-0700
TZOFFSETTO:-0800
TZNAME:PST
DTSTART:20261101T090000
END:STANDARD
END:VTIMEZONE
BEGIN:VEVENT
DTSTART;TZID=America/Los_Angeles:20251107T170000
DTEND;TZID=America/Los_Angeles:20251107T200000
DTSTAMP:20260425T054620
CREATED:20251104T204156Z
LAST-MODIFIED:20251104T204156Z
UID:95242-1762534800-1762545600@arts4mc.org
SUMMARY:First Friday at Salinas Valley Art Gallery
DESCRIPTION:🎉 First Friday at Salinas Valley Art Gallery \nJoin us for an unforgettable First Friday celebration featuring November’s Featured Artist\, William Darius (Bill) Myers\, photographer and owner of Fall River Photo. \nWith over six decades behind the lens\, Bill’s work captures the heart and character of California’s Central Coast — from its people and places to the reflections of light that make each moment come alive. His photography has been featured in national publications\, galleries\, and local businesses throughout the region. \n✨ Special First Friday Highlights: \nExclusive Discounts: Enjoy special pricing on all of Bill’s photography currently on display in the gallery — a perfect opportunity to start or expand your art collection. \nMassive Giveaway: Enter our drawing for a FREE portrait package from Bill (valued at over $1\,000!) — an incredible gift idea for the holidays. 🎁 Entries will be accepted from 5–7 PM\, and you do not need to be present to win. \nDelicious Charcuterie: Savor artfully crafted bites from The Cheez Wiz\, a local company known for creating bespoke grazing boards that are as beautiful as they are delicious. 🧀\n👉 Follow them at @thecalicheesewiz or visit wizardsofcheese.myshopify.com\nCome meet Bill\, enjoy an evening of art\, food\, and community\, and experience his stunning photography printed on metal\, acrylic\, and canvas. \n📅 First Friday\, November 7th\n🕔 5–8 PM\n📍 Salinas Valley Art Gallery\, 218 Main St.\, Oldtown Salinas\n🌐 fallriverphoto.gallery
URL:https://arts4mc.org/event/first-friday-at-salinas-valley-art-gallery-2/
ATTACH;FMTTYPE=image/jpeg:https://arts4mc.org/wp-content/uploads/2025/11/K3B4590a1-scaled.jpg
END:VEVENT
END:VCALENDAR