BEGIN:VCALENDAR
VERSION:2.0
PRODID:-//Arts Council for Monterey County - ECPv6.15.14//NONSGML v1.0//EN
CALSCALE:GREGORIAN
METHOD:PUBLISH
X-WR-CALNAME:Arts Council for Monterey County
X-ORIGINAL-URL:https://arts4mc.org
X-WR-CALDESC:Events for Arts Council for Monterey County
REFRESH-INTERVAL;VALUE=DURATION:PT1H
X-Robots-Tag:noindex
X-PUBLISHED-TTL:PT1H
BEGIN:VTIMEZONE
TZID:America/Los_Angeles
BEGIN:DAYLIGHT
TZOFFSETFROM:-0800
TZOFFSETTO:-0700
TZNAME:PDT
DTSTART:20230312T100000
END:DAYLIGHT
BEGIN:STANDARD
TZOFFSETFROM:-0700
TZOFFSETTO:-0800
TZNAME:PST
DTSTART:20231105T090000
END:STANDARD
BEGIN:DAYLIGHT
TZOFFSETFROM:-0800
TZOFFSETTO:-0700
TZNAME:PDT
DTSTART:20240310T100000
END:DAYLIGHT
BEGIN:STANDARD
TZOFFSETFROM:-0700
TZOFFSETTO:-0800
TZNAME:PST
DTSTART:20241103T090000
END:STANDARD
BEGIN:DAYLIGHT
TZOFFSETFROM:-0800
TZOFFSETTO:-0700
TZNAME:PDT
DTSTART:20250309T100000
END:DAYLIGHT
BEGIN:STANDARD
TZOFFSETFROM:-0700
TZOFFSETTO:-0800
TZNAME:PST
DTSTART:20251102T090000
END:STANDARD
END:VTIMEZONE
BEGIN:VEVENT
DTSTART;TZID=America/Los_Angeles:20241206T170000
DTEND;TZID=America/Los_Angeles:20241206T193000
DTSTAMP:20260423T101409
CREATED:20241104T223407Z
LAST-MODIFIED:20241104T223407Z
UID:45137-1733504400-1733513400@arts4mc.org
SUMMARY:First Friday Artist Reception with David J. Gubernick at ArtWorks @Salinas
DESCRIPTION:We’re excited to invite you to the upcoming reception for award-winning nature photographer David J. Gubernick’s stunning exhibit\, “Macro to Grand Landscapes\,” on First Friday\, December 6th starting at 5:00 at ArtWorks @Salinas. David’s exhibit beautifully captures Monterey County’s natural beauty\, from intricate macro shots of flowers to expansive landscapes. Alongside David’s work\, enjoy the captivating art of Shagufta Khan\, Deborah Good\, Kenji Tanner\, Edgar Lorenzo\, Emerald McColey\, and Nathaniel Stapleton. Pianist Andres Benito-Yanez will perform live\, creating a wonderful atmosphere for the evening. Don’t miss this fantastic evening of art\, music\, and community! Share with a friend!
URL:https://arts4mc.org/event/first-friday-artist-reception-with-david-j-gubernick/
LOCATION:ArtWorks @Salinas\, 262 Main Street\, Salinas\, CA\, 93901\, United States
ATTACH;FMTTYPE=image/jpeg:https://arts4mc.org/wp-content/uploads/2024/11/David-Gubernick_PfeifferBeachSunsetThroughKeyholeArch-607_ebay.jpg
ORGANIZER;CN="Arts Council for Monterey County":MAILTO:info@arts4mc.org
GEO:36.6740282;-121.6552064
X-APPLE-STRUCTURED-LOCATION;VALUE=URI;X-ADDRESS=ArtWorks @Salinas 262 Main Street Salinas CA 93901 United States;X-APPLE-RADIUS=500;X-TITLE=262 Main Street:geo:-121.6552064,36.6740282
END:VEVENT
END:VCALENDAR