BEGIN:VCALENDAR
VERSION:2.0
PRODID:-//Arts Council for Monterey County - ECPv6.15.14//NONSGML v1.0//EN
CALSCALE:GREGORIAN
METHOD:PUBLISH
X-WR-CALNAME:Arts Council for Monterey County
X-ORIGINAL-URL:https://arts4mc.org
X-WR-CALDESC:Events for Arts Council for Monterey County
REFRESH-INTERVAL;VALUE=DURATION:PT1H
X-Robots-Tag:noindex
X-PUBLISHED-TTL:PT1H
BEGIN:VTIMEZONE
TZID:America/Los_Angeles
BEGIN:DAYLIGHT
TZOFFSETFROM:-0800
TZOFFSETTO:-0700
TZNAME:PDT
DTSTART:20240310T100000
END:DAYLIGHT
BEGIN:STANDARD
TZOFFSETFROM:-0700
TZOFFSETTO:-0800
TZNAME:PST
DTSTART:20241103T090000
END:STANDARD
BEGIN:DAYLIGHT
TZOFFSETFROM:-0800
TZOFFSETTO:-0700
TZNAME:PDT
DTSTART:20250309T100000
END:DAYLIGHT
BEGIN:STANDARD
TZOFFSETFROM:-0700
TZOFFSETTO:-0800
TZNAME:PST
DTSTART:20251102T090000
END:STANDARD
BEGIN:DAYLIGHT
TZOFFSETFROM:-0800
TZOFFSETTO:-0700
TZNAME:PDT
DTSTART:20260308T100000
END:DAYLIGHT
BEGIN:STANDARD
TZOFFSETFROM:-0700
TZOFFSETTO:-0800
TZNAME:PST
DTSTART:20261101T090000
END:STANDARD
END:VTIMEZONE
BEGIN:VEVENT
DTSTART;TZID=America/Los_Angeles:20250905T170000
DTEND;TZID=America/Los_Angeles:20250905T193000
DTSTAMP:20260425T211800
CREATED:20250826T230126Z
LAST-MODIFIED:20250826T230126Z
UID:92487-1757091600-1757100600@arts4mc.org
SUMMARY:First Friday Artist Reception: Featuring Exhibit by Andy Williams
DESCRIPTION:Celebrate four decades of art at our next First Friday Artist Reception by Andy Williams’s “Monterey County: A Painter’s Chronicle – 40 Years in Steinbeck Country.” Andy’s paintings capture the rugged coastlines\, golden fields\, and vibrant communities that make this region unforgettable.  \nIn addition to Andy’s collection\, you will encounter luminous fused glass art by Jill Casty and bold acrylic paintings by Gregorytheartist. This month’s featured resident artist\, Nate Stapleton\, presents his work titled “Blending the Abstract with the Fantastic.” Nate’s paintings combine elements of abstraction and fantasy\, exploring themes of hope\, pain\, alienation\, and wonder. You will also find works by local artists and artisans\, including Shagufta Khan\, Edge Lorenzo\, Victoria Lee\, Cristal Hamer\, Deborah Good\, and Kenji Tanner. \nCome meet the artists\, explore the open studios\, and enjoy a vibrant evening of local creativity. Free and open to the public.  \nArtWorks Salinas | 262 Main Street\, Salinas\nFriday\, September 5th at 5 PM\nGallery hours: Friday to Sunday 10 AM – 4 PM \nLearn more at https://arts4mc.org/artworks/
URL:https://arts4mc.org/event/first-friday-artist-reception-featuring-exhibit-by-andy-williams/
LOCATION:ArtWorks @Salinas\, 262 Main Street\, Salinas\, CA\, 93901\, United States
ATTACH;FMTTYPE=image/png:https://arts4mc.org/wp-content/uploads/2025/08/ArtWorks-@Salinas-First-Friday-Artist-Reception-Sept-2025.png
ORGANIZER;CN="Arts Council for Monterey County":MAILTO:info@arts4mc.org
GEO:36.6740282;-121.6552064
X-APPLE-STRUCTURED-LOCATION;VALUE=URI;X-ADDRESS=ArtWorks @Salinas 262 Main Street Salinas CA 93901 United States;X-APPLE-RADIUS=500;X-TITLE=262 Main Street:geo:-121.6552064,36.6740282
END:VEVENT
END:VCALENDAR