BEGIN:VCALENDAR
VERSION:2.0
PRODID:-//Arts Council for Monterey County - ECPv6.15.14//NONSGML v1.0//EN
CALSCALE:GREGORIAN
METHOD:PUBLISH
X-WR-CALNAME:Arts Council for Monterey County
X-ORIGINAL-URL:https://arts4mc.org
X-WR-CALDESC:Events for Arts Council for Monterey County
REFRESH-INTERVAL;VALUE=DURATION:PT1H
X-Robots-Tag:noindex
X-PUBLISHED-TTL:PT1H
BEGIN:VTIMEZONE
TZID:America/Los_Angeles
BEGIN:DAYLIGHT
TZOFFSETFROM:-0800
TZOFFSETTO:-0700
TZNAME:PDT
DTSTART:20230312T100000
END:DAYLIGHT
BEGIN:STANDARD
TZOFFSETFROM:-0700
TZOFFSETTO:-0800
TZNAME:PST
DTSTART:20231105T090000
END:STANDARD
BEGIN:DAYLIGHT
TZOFFSETFROM:-0800
TZOFFSETTO:-0700
TZNAME:PDT
DTSTART:20240310T100000
END:DAYLIGHT
BEGIN:STANDARD
TZOFFSETFROM:-0700
TZOFFSETTO:-0800
TZNAME:PST
DTSTART:20241103T090000
END:STANDARD
BEGIN:DAYLIGHT
TZOFFSETFROM:-0800
TZOFFSETTO:-0700
TZNAME:PDT
DTSTART:20250309T100000
END:DAYLIGHT
BEGIN:STANDARD
TZOFFSETFROM:-0700
TZOFFSETTO:-0800
TZNAME:PST
DTSTART:20251102T090000
END:STANDARD
END:VTIMEZONE
BEGIN:VEVENT
DTSTART;TZID=America/Los_Angeles:20240808T173000
DTEND;TZID=America/Los_Angeles:20240808T190000
DTSTAMP:20260423T145707
CREATED:20240729T214537Z
LAST-MODIFIED:20240729T214537Z
UID:31945-1723138200-1723143600@arts4mc.org
SUMMARY:Evening with the Artist: Gary Lopez
DESCRIPTION:Join artist Gary Lopez for a presentation on astrophotography\, a unique photographic medium that showcases the many wonders in the skies. The artist\, currently featured in MMA’s Into the Blue\, will guide participants through his process and experiences in the astrophotography field.\n\nAbout the Artist: \nGary Lopez is a fine art astrophotographer. His photographs are a blend of art and science\, images that bridge nature photography and abstract art. The subjects of his images are the clouds of faintly glowing space gas and dust that populate the night sky\, sites that are the birthplace of new stars. In his art he strives to capture the beauty and drama of the stories that are captured in this cosmic light. His work has been recognized in international photography events including First Place in both the 2020 and the 2021 International Photography Awards (Nature/Astrophotography category) and the Silver Award in the 2023 Prix de la Photographie Paris (Nature/Sky category).
URL:https://arts4mc.org/event/evening-with-the-artist-gary-lopez/
LOCATION:559 Pacific St\, Monterey\, CA\, United States\, California
ATTACH;FMTTYPE=image/jpeg:https://arts4mc.org/wp-content/uploads/2024/07/109.jpg
ORGANIZER;CN="Monterey Museum of Art":MAILTO:info@montereyart.org
END:VEVENT
END:VCALENDAR