BEGIN:VCALENDAR
VERSION:2.0
PRODID:-//Arts Council for Monterey County - ECPv6.15.14//NONSGML v1.0//EN
CALSCALE:GREGORIAN
METHOD:PUBLISH
X-WR-CALNAME:Arts Council for Monterey County
X-ORIGINAL-URL:https://arts4mc.org
X-WR-CALDESC:Events for Arts Council for Monterey County
REFRESH-INTERVAL;VALUE=DURATION:PT1H
X-Robots-Tag:noindex
X-PUBLISHED-TTL:PT1H
BEGIN:VTIMEZONE
TZID:America/Los_Angeles
BEGIN:DAYLIGHT
TZOFFSETFROM:-0800
TZOFFSETTO:-0700
TZNAME:PDT
DTSTART:20220313T100000
END:DAYLIGHT
BEGIN:STANDARD
TZOFFSETFROM:-0700
TZOFFSETTO:-0800
TZNAME:PST
DTSTART:20221106T090000
END:STANDARD
BEGIN:DAYLIGHT
TZOFFSETFROM:-0800
TZOFFSETTO:-0700
TZNAME:PDT
DTSTART:20230312T100000
END:DAYLIGHT
BEGIN:STANDARD
TZOFFSETFROM:-0700
TZOFFSETTO:-0800
TZNAME:PST
DTSTART:20231105T090000
END:STANDARD
BEGIN:DAYLIGHT
TZOFFSETFROM:-0800
TZOFFSETTO:-0700
TZNAME:PDT
DTSTART:20240310T100000
END:DAYLIGHT
BEGIN:STANDARD
TZOFFSETFROM:-0700
TZOFFSETTO:-0800
TZNAME:PST
DTSTART:20241103T090000
END:STANDARD
END:VTIMEZONE
BEGIN:VEVENT
DTSTART;TZID=America/Los_Angeles:20230318T160000
DTEND;TZID=America/Los_Angeles:20230318T180000
DTSTAMP:20260419T120256
CREATED:20230313T193924Z
LAST-MODIFIED:20230313T193924Z
UID:20932-1679155200-1679162400@arts4mc.org
SUMMARY:Educator Open House
DESCRIPTION:The Monterey Museum of Art invites all educators to join us for a special Teacher Appreciation event! We appreciate all the hard work and dedication that educators put into their classrooms\, and we want to show our gratitude. The event will include music\, activities\, talks\, and tours\, all geared towards providing a fun and informative experience for educators. You’ll also have access to free art education resources\, designed to help enhance your classroom curriculum and engage your students in the arts. This is a wonderful opportunity to network with other educators\, learn more about the museum’s programs\, and gain valuable insights into art education. Join us for a day of celebration and appreciation on behalf of the Monterey Museum of Art!
URL:https://arts4mc.org/event/educator-open-house/
ATTACH;FMTTYPE=image/jpeg:https://arts4mc.org/wp-content/uploads/2023/03/Untitled-design-23.jpg
END:VEVENT
END:VCALENDAR