BEGIN:VCALENDAR
VERSION:2.0
PRODID:-//Arts Council for Monterey County - ECPv6.15.14//NONSGML v1.0//EN
CALSCALE:GREGORIAN
METHOD:PUBLISH
X-WR-CALNAME:Arts Council for Monterey County
X-ORIGINAL-URL:https://arts4mc.org
X-WR-CALDESC:Events for Arts Council for Monterey County
REFRESH-INTERVAL;VALUE=DURATION:PT1H
X-Robots-Tag:noindex
X-PUBLISHED-TTL:PT1H
BEGIN:VTIMEZONE
TZID:America/Los_Angeles
BEGIN:DAYLIGHT
TZOFFSETFROM:-0800
TZOFFSETTO:-0700
TZNAME:PDT
DTSTART:20220313T100000
END:DAYLIGHT
BEGIN:STANDARD
TZOFFSETFROM:-0700
TZOFFSETTO:-0800
TZNAME:PST
DTSTART:20221106T090000
END:STANDARD
BEGIN:DAYLIGHT
TZOFFSETFROM:-0800
TZOFFSETTO:-0700
TZNAME:PDT
DTSTART:20230312T100000
END:DAYLIGHT
BEGIN:STANDARD
TZOFFSETFROM:-0700
TZOFFSETTO:-0800
TZNAME:PST
DTSTART:20231105T090000
END:STANDARD
BEGIN:DAYLIGHT
TZOFFSETFROM:-0800
TZOFFSETTO:-0700
TZNAME:PDT
DTSTART:20240310T100000
END:DAYLIGHT
BEGIN:STANDARD
TZOFFSETFROM:-0700
TZOFFSETTO:-0800
TZNAME:PST
DTSTART:20241103T090000
END:STANDARD
END:VTIMEZONE
BEGIN:VEVENT
DTSTART;TZID=America/Los_Angeles:20231021T190000
DTEND;TZID=America/Los_Angeles:20231021T210000
DTSTAMP:20260422T035828
CREATED:20231015T155338Z
LAST-MODIFIED:20231015T155338Z
UID:23076-1697914800-1697922000@arts4mc.org
SUMMARY:Controlled Chaos Improv!
DESCRIPTION:Introducing something new! Comedy Variety Showcase presents “Controlled Chaos” improv. “Controlled Chaos” puts their own twist on traditional improvisational theatre. Quick wit and spontaneous energy is combined with truth in comedy to bring something fresh and fun to the stage! (16+ Some material may not be suitable for children.)
URL:https://arts4mc.org/event/controlled-chaos-improv/
LOCATION:Monterey History & Art Association at Stanton Center\, 5 Custom Plaza\, Monterey\, CA\, 93940\, United States
ATTACH;FMTTYPE=image/jpeg:https://arts4mc.org/wp-content/uploads/2023/10/Maria-with-Troupe-1-1.jpg
ORGANIZER;CN="Monterey History &amp%3B Art Association at Stanton Center":MAILTO:comedyvarietyshowcase@gmail.com
GEO:36.6024314;-121.8932914
X-APPLE-STRUCTURED-LOCATION;VALUE=URI;X-ADDRESS=Monterey History & Art Association at Stanton Center 5 Custom Plaza Monterey CA 93940 United States;X-APPLE-RADIUS=500;X-TITLE=5 Custom Plaza:geo:-121.8932914,36.6024314
END:VEVENT
END:VCALENDAR