BEGIN:VCALENDAR
VERSION:2.0
PRODID:-//Arts Council for Monterey County - ECPv6.15.14//NONSGML v1.0//EN
CALSCALE:GREGORIAN
METHOD:PUBLISH
X-WR-CALNAME:Arts Council for Monterey County
X-ORIGINAL-URL:https://arts4mc.org
X-WR-CALDESC:Events for Arts Council for Monterey County
REFRESH-INTERVAL;VALUE=DURATION:PT1H
X-Robots-Tag:noindex
X-PUBLISHED-TTL:PT1H
BEGIN:VTIMEZONE
TZID:America/Los_Angeles
BEGIN:DAYLIGHT
TZOFFSETFROM:-0800
TZOFFSETTO:-0700
TZNAME:PDT
DTSTART:20230312T100000
END:DAYLIGHT
BEGIN:STANDARD
TZOFFSETFROM:-0700
TZOFFSETTO:-0800
TZNAME:PST
DTSTART:20231105T090000
END:STANDARD
BEGIN:DAYLIGHT
TZOFFSETFROM:-0800
TZOFFSETTO:-0700
TZNAME:PDT
DTSTART:20240310T100000
END:DAYLIGHT
BEGIN:STANDARD
TZOFFSETFROM:-0700
TZOFFSETTO:-0800
TZNAME:PST
DTSTART:20241103T090000
END:STANDARD
BEGIN:DAYLIGHT
TZOFFSETFROM:-0800
TZOFFSETTO:-0700
TZNAME:PDT
DTSTART:20250309T100000
END:DAYLIGHT
BEGIN:STANDARD
TZOFFSETFROM:-0700
TZOFFSETTO:-0800
TZNAME:PST
DTSTART:20251102T090000
END:STANDARD
END:VTIMEZONE
BEGIN:VEVENT
DTSTART;TZID=America/Los_Angeles:20240112T190000
DTEND;TZID=America/Los_Angeles:20240112T210000
DTSTAMP:20260424T054415
CREATED:20240109T022129Z
LAST-MODIFIED:20240109T022129Z
UID:10000336-1705086000-1705093200@arts4mc.org
SUMMARY:Controlled Chaos Improv!
DESCRIPTION:Introducing something new! Comedy Variety Showcase presents “Controlled Chaos” improv. “Controlled Chaos” puts their own twist on traditional improvisational theatre. Quick wit and spontaneous energy is combined with truth in comedy to bring something fresh and fun to the stage!
URL:https://arts4mc.org/event/controlled-chaos-improv-2/2024-01-12/2/
LOCATION:Pacific Grove Art Center\, 568 Lighthouse Ave.\, Pacific Grove\, CA\, 93950\, United States
ATTACH;FMTTYPE=image/jpeg:https://arts4mc.org/wp-content/uploads/2024/01/Controlled-Chaos-1.jpeg
ORGANIZER;CN="Comedy Variety Showcase":MAILTO:comedyvarietyshowcase@gmail.com
GEO:36.6212575;-121.9174422
X-APPLE-STRUCTURED-LOCATION;VALUE=URI;X-ADDRESS=Pacific Grove Art Center 568 Lighthouse Ave. Pacific Grove CA 93950 United States;X-APPLE-RADIUS=500;X-TITLE=568 Lighthouse Ave.:geo:-121.9174422,36.6212575
END:VEVENT
END:VCALENDAR