BEGIN:VCALENDAR
VERSION:2.0
PRODID:-//Arts Council for Monterey County - ECPv6.15.14//NONSGML v1.0//EN
CALSCALE:GREGORIAN
METHOD:PUBLISH
X-WR-CALNAME:Arts Council for Monterey County
X-ORIGINAL-URL:https://arts4mc.org
X-WR-CALDESC:Events for Arts Council for Monterey County
REFRESH-INTERVAL;VALUE=DURATION:PT1H
X-Robots-Tag:noindex
X-PUBLISHED-TTL:PT1H
BEGIN:VTIMEZONE
TZID:America/Los_Angeles
BEGIN:DAYLIGHT
TZOFFSETFROM:-0800
TZOFFSETTO:-0700
TZNAME:PDT
DTSTART:20250309T100000
END:DAYLIGHT
BEGIN:STANDARD
TZOFFSETFROM:-0700
TZOFFSETTO:-0800
TZNAME:PST
DTSTART:20251102T090000
END:STANDARD
BEGIN:DAYLIGHT
TZOFFSETFROM:-0800
TZOFFSETTO:-0700
TZNAME:PDT
DTSTART:20260308T100000
END:DAYLIGHT
BEGIN:STANDARD
TZOFFSETFROM:-0700
TZOFFSETTO:-0800
TZNAME:PST
DTSTART:20261101T090000
END:STANDARD
BEGIN:DAYLIGHT
TZOFFSETFROM:-0800
TZOFFSETTO:-0700
TZNAME:PDT
DTSTART:20270314T100000
END:DAYLIGHT
BEGIN:STANDARD
TZOFFSETFROM:-0700
TZOFFSETTO:-0800
TZNAME:PST
DTSTART:20271107T090000
END:STANDARD
END:VTIMEZONE
BEGIN:VEVENT
DTSTART;TZID=America/Los_Angeles:20260125T150000
DTEND;TZID=America/Los_Angeles:20260125T163000
DTSTAMP:20260424T095020
CREATED:20251231T215311Z
LAST-MODIFIED:20251231T215311Z
UID:96293-1769353200-1769358600@arts4mc.org
SUMMARY:Choral Artists of Carmel Winter Concert
DESCRIPTION:Choral Artists of Carmel will present their winter concert\, entitled “Metamorphosis of Swans\,” on Sunday\, January 25\, from 3:00–4:30 pm at the First Presbyterian Church in Monterey. \nThe concert will feature the world premiere of the opera “Metamorphosis of Swans\,” composed by choir member Heather Green. Ms. Green is a Wagnerian soprano and composer residing in Berlin\, Germany. The premiere of her opera will include arias\, as well as choral pieces sung by the Choral Artists of Carmel. The music and lyrics are based upon Hans Christian Anderson’s fairy tale\, “The Wild Swans\,” a classic story of perseverance and the transformative power of love. \nThe opera premiere will highlight a number of exceptional performers. Soprano Jody Lee from the Monterey Peninsula and soprano Emily Schuck from San Francisco will be the soloists for the aria\, “What is Left?” In addition\, Ms. Lee will premiere the duet\, “Call\,” with Ms. Green. Also featured will be the poem “Wings\,” written by conductor Robin McKee Williams and set by Ms. Green for SATB (Soprano\, Alto\, Tenor\, and Bass) voices and oboe. Peter Lemberg will be the oboe soloist. \nThe Choral Artists of Carmel will also perform the West Coast premiere of Ola Gjeilo’s “The Road\,” accompanied by David Dally’s Monterey Strings and harpist Pamela Scholz. “The Great Flowing River” and “Calling From Afar\,” both by James Eakin\, and “They Will Rise” by British composer Jonathan Dove will also be performed by the choir. \nZoom interviews with composers James Eakin\, Jonathan Dove\, and Heather Green are available at www.youtube.com/@choralartistsofcarmel and www.choralartistsofcarmel.org. \nRobin McKee Williams continues to support newly composed choral works and showcase the talents of the Choral Artists of Carmel\, which includes well-established professional singers from San Francisco\, San Diego\, New York\, and Germany. The concert\, “Metamorphosis of Swans\,” will present a rich experience of choral\, orchestral\, and solo music to inspire the Monterey Peninsula. \nThere is a suggested donation of $30. Tickets will be available at the door.\nFor more information\, call 831-809-9112 or email choralartistsofcarmel@gmail.com.
URL:https://arts4mc.org/event/choral-artists-of-carmel-winter-concert/
LOCATION:First Presbyterian Church of Monterey\, 501 El Dorado Street\, Monterey\, 93940
ATTACH;FMTTYPE=image/jpeg:https://arts4mc.org/wp-content/uploads/2025/12/COAC_IMG_3620.jpg
ORGANIZER;CN="Choral Artists of Carmel":MAILTO:choralartistsofcarmel@gmail.com
GEO:36.5902975;-121.8921225
X-APPLE-STRUCTURED-LOCATION;VALUE=URI;X-ADDRESS=First Presbyterian Church of Monterey 501 El Dorado Street Monterey 93940;X-APPLE-RADIUS=500;X-TITLE=501 El Dorado Street:geo:-121.8921225,36.5902975
END:VEVENT
END:VCALENDAR