BEGIN:VCALENDAR
VERSION:2.0
PRODID:-//Arts Council for Monterey County - ECPv6.15.14//NONSGML v1.0//EN
CALSCALE:GREGORIAN
METHOD:PUBLISH
X-WR-CALNAME:Arts Council for Monterey County
X-ORIGINAL-URL:https://arts4mc.org
X-WR-CALDESC:Events for Arts Council for Monterey County
REFRESH-INTERVAL;VALUE=DURATION:PT1H
X-Robots-Tag:noindex
X-PUBLISHED-TTL:PT1H
BEGIN:VTIMEZONE
TZID:America/Los_Angeles
BEGIN:DAYLIGHT
TZOFFSETFROM:-0800
TZOFFSETTO:-0700
TZNAME:PDT
DTSTART:20230312T100000
END:DAYLIGHT
BEGIN:STANDARD
TZOFFSETFROM:-0700
TZOFFSETTO:-0800
TZNAME:PST
DTSTART:20231105T090000
END:STANDARD
BEGIN:DAYLIGHT
TZOFFSETFROM:-0800
TZOFFSETTO:-0700
TZNAME:PDT
DTSTART:20240310T100000
END:DAYLIGHT
BEGIN:STANDARD
TZOFFSETFROM:-0700
TZOFFSETTO:-0800
TZNAME:PST
DTSTART:20241103T090000
END:STANDARD
BEGIN:DAYLIGHT
TZOFFSETFROM:-0800
TZOFFSETTO:-0700
TZNAME:PDT
DTSTART:20250309T100000
END:DAYLIGHT
BEGIN:STANDARD
TZOFFSETFROM:-0700
TZOFFSETTO:-0800
TZNAME:PST
DTSTART:20251102T090000
END:STANDARD
END:VTIMEZONE
BEGIN:VEVENT
DTSTART;TZID=America/Los_Angeles:20240427T183000
DTEND;TZID=America/Los_Angeles:20240427T210000
DTSTAMP:20260425T052645
CREATED:20230720T210944Z
LAST-MODIFIED:20230720T210944Z
UID:22272-1714242600-1714251600@arts4mc.org
SUMMARY:Chicago Piano Quartet
DESCRIPTION:Pre-concert lecture at 6:30 pm. The program includes pieces by Turina\, Cras\, and Brahms. \nFULL DESCRIPTION \nJoaquín Turina Piano Quartet\nJean Cras String Trio\nJohannes Brahms Piano Quartet No. 3 in C Minor\, op. 60 \nPerformers \nDesiree Ruhstrat\, violin\nAurelien Fort Pederzoli\, viola\nDavid Cunliffe\, cello\nMarta Aznavoorian\, piano \nAbout the Performers \nViolinist Desirée Ruhstrat\, cellist David Cunliffe\, and pianist Marta Aznavoorian are known to the CMMB audience for their successful performance in October 2021 as the Lincoln Trio. Ruhstrat\, Cunliffe\, and violist Aurélien Fort Pederzoli make up the critically-acclaimed Black Oak Ensemble\, one of the leading string trios on the international scene. When the two trios combine (yes\, in this case\, 3 + 3 = 4!)\, they become the superlative CHICAGO PIANO QUARTET. \nThe honors\, achievements\, and critical acclaim garnered by the Lincoln Trio and the Black Oak Ensemble are too numerous to mention. The Lincoln Trio was nominated for a 2017 GRAMMY Award for Best Performance by a Small Ensemble; their playing was praised by Joshua Kosman as “fervent and imaginative” and by The Strad as “sensational.” The Black Oak Ensemble’s latest CD reached #1 on the Billboard Classical Charts in July 2022. Since then\, it has been lauded in the U.S. and international press\, including Canada\, the Netherlands\, and Germany. Fanfare said\, “The players fully inhabit the spirit of whatever work they are playing at the moment\, performing each one with as ardent a flame as if they had written it themselves.”
URL:https://arts4mc.org/event/chicago-piano-quartet/
LOCATION:Sunset Center\, San Carlos St at Ninth Ave\, Carmel by the Sea\, CA\, 93921
ATTACH;FMTTYPE=image/jpeg:https://arts4mc.org/wp-content/uploads/2023/07/Chicago-Piano-Quartet-horiz.jpg
ORGANIZER;CN="Chamber Music Monterey Bay":MAILTO:info@chambermusicmontereybay.org
GEO:36.5513147;-121.9218091
X-APPLE-STRUCTURED-LOCATION;VALUE=URI;X-ADDRESS=Sunset Center San Carlos St at Ninth Ave Carmel by the Sea CA 93921;X-APPLE-RADIUS=500;X-TITLE=San Carlos St at Ninth Ave:geo:-121.9218091,36.5513147
END:VEVENT
END:VCALENDAR