BEGIN:VCALENDAR
VERSION:2.0
PRODID:-//Arts Council for Monterey County - ECPv6.15.14//NONSGML v1.0//EN
CALSCALE:GREGORIAN
METHOD:PUBLISH
X-WR-CALNAME:Arts Council for Monterey County
X-ORIGINAL-URL:https://arts4mc.org
X-WR-CALDESC:Events for Arts Council for Monterey County
REFRESH-INTERVAL;VALUE=DURATION:PT1H
X-Robots-Tag:noindex
X-PUBLISHED-TTL:PT1H
BEGIN:VTIMEZONE
TZID:America/Los_Angeles
BEGIN:DAYLIGHT
TZOFFSETFROM:-0800
TZOFFSETTO:-0700
TZNAME:PDT
DTSTART:20230312T100000
END:DAYLIGHT
BEGIN:STANDARD
TZOFFSETFROM:-0700
TZOFFSETTO:-0800
TZNAME:PST
DTSTART:20231105T090000
END:STANDARD
BEGIN:DAYLIGHT
TZOFFSETFROM:-0800
TZOFFSETTO:-0700
TZNAME:PDT
DTSTART:20240310T100000
END:DAYLIGHT
BEGIN:STANDARD
TZOFFSETFROM:-0700
TZOFFSETTO:-0800
TZNAME:PST
DTSTART:20241103T090000
END:STANDARD
BEGIN:DAYLIGHT
TZOFFSETFROM:-0800
TZOFFSETTO:-0700
TZNAME:PDT
DTSTART:20250309T100000
END:DAYLIGHT
BEGIN:STANDARD
TZOFFSETFROM:-0700
TZOFFSETTO:-0800
TZNAME:PST
DTSTART:20251102T090000
END:STANDARD
END:VTIMEZONE
BEGIN:VEVENT
DTSTART;TZID=America/Los_Angeles:20240809T090000
DTEND;TZID=America/Los_Angeles:20240809T103000
DTSTAMP:20260424T075710
CREATED:20240320T222214Z
LAST-MODIFIED:20240320T222214Z
UID:24635-1723194000-1723199400@arts4mc.org
SUMMARY:Champions of the Arts™
DESCRIPTION:An annual celebration to honor those individual or organizations that have made a profound impact on the arts in our region.
URL:https://arts4mc.org/event/champions-of-the-arts-2/
LOCATION:Marriott Monterey\, 350 Calle Principal\, Monterey\, CA\, 93940\, United States
ORGANIZER;CN="Arts Council for Monterey County":MAILTO:info@arts4mc.org
GEO:36.6006122;-121.8953764
X-APPLE-STRUCTURED-LOCATION;VALUE=URI;X-ADDRESS=Marriott Monterey 350 Calle Principal Monterey CA 93940 United States;X-APPLE-RADIUS=500;X-TITLE=350 Calle Principal:geo:-121.8953764,36.6006122
END:VEVENT
END:VCALENDAR