BEGIN:VCALENDAR
VERSION:2.0
PRODID:-//Arts Council for Monterey County - ECPv6.15.14//NONSGML v1.0//EN
CALSCALE:GREGORIAN
METHOD:PUBLISH
X-WR-CALNAME:Arts Council for Monterey County
X-ORIGINAL-URL:https://arts4mc.org
X-WR-CALDESC:Events for Arts Council for Monterey County
REFRESH-INTERVAL;VALUE=DURATION:PT1H
X-Robots-Tag:noindex
X-PUBLISHED-TTL:PT1H
BEGIN:VTIMEZONE
TZID:America/Los_Angeles
BEGIN:DAYLIGHT
TZOFFSETFROM:-0800
TZOFFSETTO:-0700
TZNAME:PDT
DTSTART:20230312T100000
END:DAYLIGHT
BEGIN:STANDARD
TZOFFSETFROM:-0700
TZOFFSETTO:-0800
TZNAME:PST
DTSTART:20231105T090000
END:STANDARD
BEGIN:DAYLIGHT
TZOFFSETFROM:-0800
TZOFFSETTO:-0700
TZNAME:PDT
DTSTART:20240310T100000
END:DAYLIGHT
BEGIN:STANDARD
TZOFFSETFROM:-0700
TZOFFSETTO:-0800
TZNAME:PST
DTSTART:20241103T090000
END:STANDARD
BEGIN:DAYLIGHT
TZOFFSETFROM:-0800
TZOFFSETTO:-0700
TZNAME:PDT
DTSTART:20250309T100000
END:DAYLIGHT
BEGIN:STANDARD
TZOFFSETFROM:-0700
TZOFFSETTO:-0800
TZNAME:PST
DTSTART:20251102T090000
END:STANDARD
END:VTIMEZONE
BEGIN:VEVENT
DTSTART;TZID=America/Los_Angeles:20240429T090000
DTEND;TZID=America/Los_Angeles:20240627T170000
DTSTAMP:20260425T061241
CREATED:20240503T172754Z
LAST-MODIFIED:20240503T172754Z
UID:25756-1714381200-1719507600@arts4mc.org
SUMMARY:Central Coast Art Association Spring Juried Show
DESCRIPTION:Dozens of artists from the Central Coast Art Association will exhibit their work from April 29 to June 27 at Meals on Wheels\, 700 Jewell Ave in Pacific Grove.   The opening reception will be on May 10th from 5-7\, featuring music\, refreshments\, and a live judging and awards ceremony.  The public is welcome.\nSales from the show will benefit the Meals on Wheels program which offers home delivered meals\, group dining and active living programs to seniors\, disabled adults\, veterans\, and other underserved populations.  \nThe Central Coast Art Association welcomes new artist members and volunteers to participate in our vibrant community.
URL:https://arts4mc.org/event/central-coast-art-association-spring-juried-show/
LOCATION:Meals on Wheels\, 700 Jewell Avenue\, Pacific Grove\, 93950
ATTACH;FMTTYPE=image/jpeg:https://arts4mc.org/wp-content/uploads/2024/04/20230505_195243-2.jpg
END:VEVENT
END:VCALENDAR