BEGIN:VCALENDAR
VERSION:2.0
PRODID:-//Arts Council for Monterey County - ECPv6.15.14//NONSGML v1.0//EN
CALSCALE:GREGORIAN
METHOD:PUBLISH
X-WR-CALNAME:Arts Council for Monterey County
X-ORIGINAL-URL:https://arts4mc.org
X-WR-CALDESC:Events for Arts Council for Monterey County
REFRESH-INTERVAL;VALUE=DURATION:PT1H
X-Robots-Tag:noindex
X-PUBLISHED-TTL:PT1H
BEGIN:VTIMEZONE
TZID:America/Los_Angeles
BEGIN:DAYLIGHT
TZOFFSETFROM:-0800
TZOFFSETTO:-0700
TZNAME:PDT
DTSTART:20220313T100000
END:DAYLIGHT
BEGIN:STANDARD
TZOFFSETFROM:-0700
TZOFFSETTO:-0800
TZNAME:PST
DTSTART:20221106T090000
END:STANDARD
BEGIN:DAYLIGHT
TZOFFSETFROM:-0800
TZOFFSETTO:-0700
TZNAME:PDT
DTSTART:20230312T100000
END:DAYLIGHT
BEGIN:STANDARD
TZOFFSETFROM:-0700
TZOFFSETTO:-0800
TZNAME:PST
DTSTART:20231105T090000
END:STANDARD
BEGIN:DAYLIGHT
TZOFFSETFROM:-0800
TZOFFSETTO:-0700
TZNAME:PDT
DTSTART:20240310T100000
END:DAYLIGHT
BEGIN:STANDARD
TZOFFSETFROM:-0700
TZOFFSETTO:-0800
TZNAME:PST
DTSTART:20241103T090000
END:STANDARD
END:VTIMEZONE
BEGIN:VEVENT
DTSTART;TZID=America/Los_Angeles:20230401T200000
DTEND;TZID=America/Los_Angeles:20230401T220000
DTSTAMP:20260425T131828
CREATED:20230309T152609Z
LAST-MODIFIED:20230309T152609Z
UID:10000017-1680379200-1680386400@arts4mc.org
SUMMARY:Celebrating the Beatles!
DESCRIPTION:Celebrating the Beatles! is a multimedia performance featuring live musicians\, video clips\, rare images\, and storytelling. \nThe “rockumentary” tells the story of the world’s greatest band\, from their beginnings in Liverpool\, through the 13 albums recorded between 1963 and 1969\, to their breakup in April of 1970. \nThe evening features the Peninsula’s own “Nowhere Band” playing 25 Beatle hits\, at least one from every album… and more!
URL:https://arts4mc.org/event/celebrating-the-beatles/2023-04-01/
LOCATION:Outdoor Forest Theater\, Mountain View and Santa Rita\, Carmel-by-the-Sea\, CA\, 93922\, United States
ATTACH;FMTTYPE=image/jpeg:https://arts4mc.org/wp-content/uploads/2023/03/CelebratingTheBeatles.jpg
ORGANIZER;CN="PacRep Theatre":MAILTO:contact@pacrep.org
GEO:36.553094;-121.9173516
X-APPLE-STRUCTURED-LOCATION;VALUE=URI;X-ADDRESS=Outdoor Forest Theater Mountain View and Santa Rita Carmel-by-the-Sea CA 93922 United States;X-APPLE-RADIUS=500;X-TITLE=Mountain View and Santa Rita:geo:-121.9173516,36.553094
END:VEVENT
END:VCALENDAR