BEGIN:VCALENDAR
VERSION:2.0
PRODID:-//Arts Council for Monterey County - ECPv6.15.14//NONSGML v1.0//EN
CALSCALE:GREGORIAN
METHOD:PUBLISH
X-WR-CALNAME:Arts Council for Monterey County
X-ORIGINAL-URL:https://arts4mc.org
X-WR-CALDESC:Events for Arts Council for Monterey County
REFRESH-INTERVAL;VALUE=DURATION:PT1H
X-Robots-Tag:noindex
X-PUBLISHED-TTL:PT1H
BEGIN:VTIMEZONE
TZID:America/Los_Angeles
BEGIN:DAYLIGHT
TZOFFSETFROM:-0800
TZOFFSETTO:-0700
TZNAME:PDT
DTSTART:20240310T100000
END:DAYLIGHT
BEGIN:STANDARD
TZOFFSETFROM:-0700
TZOFFSETTO:-0800
TZNAME:PST
DTSTART:20241103T090000
END:STANDARD
BEGIN:DAYLIGHT
TZOFFSETFROM:-0800
TZOFFSETTO:-0700
TZNAME:PDT
DTSTART:20250309T100000
END:DAYLIGHT
BEGIN:STANDARD
TZOFFSETFROM:-0700
TZOFFSETTO:-0800
TZNAME:PST
DTSTART:20251102T090000
END:STANDARD
BEGIN:DAYLIGHT
TZOFFSETFROM:-0800
TZOFFSETTO:-0700
TZNAME:PDT
DTSTART:20260308T100000
END:DAYLIGHT
BEGIN:STANDARD
TZOFFSETFROM:-0700
TZOFFSETTO:-0800
TZNAME:PST
DTSTART:20261101T090000
END:STANDARD
END:VTIMEZONE
BEGIN:VEVENT
DTSTART;TZID=America/Los_Angeles:20251116T140000
DTEND;TZID=America/Los_Angeles:20251116T163000
DTSTAMP:20260424T075501
CREATED:20251014T165605Z
LAST-MODIFIED:20251014T165605Z
UID:94757-1763301600-1763310600@arts4mc.org
SUMMARY:Carmel Jewish Film Festival returns Nov. 2–16  9 Films\, VIP receptions\, community dinners and sponsorship campaign Carmelbethisrael.org/cjff
DESCRIPTION:Sunday\, Nov. 16 Closing Matinee Celebration — “Swedishkayt: YidLife Crisis in Stockholm” (comedy\, 1:17)Sponsorship & Support for the CJFF:2 p.m. — VIP Swedish-themed lunch reception\n3-4:30 p.m. film screening\nTickets: $30 VIP Lunch Reception; $20 Film Ticket \nAbout the film\nCanadian comedians Eli Batalion and Jamie Elman uncover Sweden’s Jewish culture in hilarious encounters\, exploring 250 years of Jewish history and the revival of Yiddish as a protected language.\nTrailer and information: Swedishkayt: YidLife Crisis in Stockholm \nSponsors enjoy premium recognition\, exclusive benefits\, and enhanced engagement opportunities at all CJFF screenings and VIP Receptions. \nSponsorship levels: \nFestival Benefactor — $2\,500\nCultural Patron — $1\,000\nCommunity Builder — $500\nFriend of CBI — $200\nAdditional donations are welcome. https://www.carmelbethisrael.org/form/3-for-2025.html \nCongregation Beth Israel is a 501(c)(3). Contributions may be tax-deductible; consult your accountant. \nNew in 2025: BuzzPR is recognized as a CJFF Cultural Patron Sponsor ($2\,200). \nAbout Congregation Beth Israel \nCBI is an inclusive\, welcoming Jewish community\, embracing individuals of all ages\, interfaith families\, and people of all backgrounds and abilities. Your support ensures CBI can continue to provide meaningful programs\, cultural experiences\, and vital services throughout the year. \nJoin Us \nTickets and sponsorship opportunities are available now.\nFor details and reservations\, visit: carmelbethisrael.org/cjff
URL:https://arts4mc.org/event/carmel-jewish-film-festival-returns-nov-2-16-9-films-vip-receptions-community-dinners-and-sponsorship-campaign-carmelbethisrael-org-cjff-6/
LOCATION:Congregation Beth Israel/CBI\, 5716 Carmel Valley Road\, Carmel Valley\, CA\, 93923\, United States
ATTACH;FMTTYPE=image/jpeg:https://arts4mc.org/wp-content/uploads/2025/10/558231612_1373738521420358_6087884385603097282_n-3.jpg
ORGANIZER;CN="Congregation Beth Israel/CBI":MAILTO:ShalomCBI@CarmelBethIsrael.org
GEO:36.5391932;-121.8745388
X-APPLE-STRUCTURED-LOCATION;VALUE=URI;X-ADDRESS=Congregation Beth Israel/CBI 5716 Carmel Valley Road Carmel Valley CA 93923 United States;X-APPLE-RADIUS=500;X-TITLE=5716 Carmel Valley Road:geo:-121.8745388,36.5391932
END:VEVENT
END:VCALENDAR