BEGIN:VCALENDAR
VERSION:2.0
PRODID:-//Arts Council for Monterey County - ECPv6.15.14//NONSGML v1.0//EN
CALSCALE:GREGORIAN
METHOD:PUBLISH
X-WR-CALNAME:Arts Council for Monterey County
X-ORIGINAL-URL:https://arts4mc.org
X-WR-CALDESC:Events for Arts Council for Monterey County
REFRESH-INTERVAL;VALUE=DURATION:PT1H
X-Robots-Tag:noindex
X-PUBLISHED-TTL:PT1H
BEGIN:VTIMEZONE
TZID:America/Los_Angeles
BEGIN:DAYLIGHT
TZOFFSETFROM:-0800
TZOFFSETTO:-0700
TZNAME:PDT
DTSTART:20240310T100000
END:DAYLIGHT
BEGIN:STANDARD
TZOFFSETFROM:-0700
TZOFFSETTO:-0800
TZNAME:PST
DTSTART:20241103T090000
END:STANDARD
BEGIN:DAYLIGHT
TZOFFSETFROM:-0800
TZOFFSETTO:-0700
TZNAME:PDT
DTSTART:20250309T100000
END:DAYLIGHT
BEGIN:STANDARD
TZOFFSETFROM:-0700
TZOFFSETTO:-0800
TZNAME:PST
DTSTART:20251102T090000
END:STANDARD
BEGIN:DAYLIGHT
TZOFFSETFROM:-0800
TZOFFSETTO:-0700
TZNAME:PDT
DTSTART:20260308T100000
END:DAYLIGHT
BEGIN:STANDARD
TZOFFSETFROM:-0700
TZOFFSETTO:-0800
TZNAME:PST
DTSTART:20261101T090000
END:STANDARD
END:VTIMEZONE
BEGIN:VEVENT
DTSTART;TZID=America/Los_Angeles:20251109T130000
DTEND;TZID=America/Los_Angeles:20251109T170000
DTSTAMP:20260421T070948
CREATED:20251014T165454Z
LAST-MODIFIED:20251014T165508Z
UID:94735-1762693200-1762707600@arts4mc.org
SUMMARY:Carmel Jewish Film Festival returns Nov. 2–16  9 Films\, VIP receptions\, community dinners and sponsorship campaign Carmelbethisrael.org/cjff
DESCRIPTION:his November\, stories from around the world will take center stage as the 2025 Carmel Jewish Film Festival (CJFF) returns offering 9 compelling films to screens in Carmel\, Pacific Grove\, Sand City and Monterey. \nPresented by Congregation Beth Israel/CBI\, the festival begins with a Celebratory Opening Matinee on Sunday\, Nov. 2\, continues through Sunday\, Nov. 16\, and includes VIP receptions\, community dinners\, and conversations designed to spark dialogue and connection. \nSunday\, Nov. 9 Special Event at La Mirada — “The Plunderer: The Life & Times of a Nazi Art Thief” (documentary\, 1:18) \n1 p.m. — VIP reception & art book sale ($10/bag; $20/box)\n2–4 p.m. — film screening\n4–5 p.m. — post-film discussion\nTickets: $50 includes film & VIP reception; limited seating. Priority given to CJFF sponsors. \nAbout the film\nThe riveting story of a Nazi art thief\, looted masterpieces\, and the struggle for restitution. The documentary exposes stolen heritage and the fight for justice. \nNotes: \nPost-film Discussion led by Corey Madden\, Executive Director\, MMA. Historian Jonathan Petropoulos who investigated the life of Bruno Lohse and his role in the Nazi looting operation\, will join our event.
URL:https://arts4mc.org/event/carmel-jewish-film-festival-returns-nov-2-16-9-films-vip-receptions-community-dinners-and-sponsorship-campaign-carmelbethisrael-org-cjff-3/
LOCATION:Monterey Museum of Art-La Mirada Education Center\, 720 Via Mirada\, Monterey\, CA\, 93940\, United States
ATTACH;FMTTYPE=image/jpeg:https://arts4mc.org/wp-content/uploads/2025/10/558231612_1373738521420358_6087884385603097282_n.jpg
ORGANIZER;CN="Congregation Beth Israel/CBI":MAILTO:ShalomCBI@CarmelBethIsrael.org
GEO:36.594363;-121.888469
X-APPLE-STRUCTURED-LOCATION;VALUE=URI;X-ADDRESS=Monterey Museum of Art-La Mirada Education Center 720 Via Mirada Monterey CA 93940 United States;X-APPLE-RADIUS=500;X-TITLE=720 Via Mirada:geo:-121.888469,36.594363
END:VEVENT
END:VCALENDAR