BEGIN:VCALENDAR
VERSION:2.0
PRODID:-//Arts Council for Monterey County - ECPv6.15.14//NONSGML v1.0//EN
CALSCALE:GREGORIAN
METHOD:PUBLISH
X-WR-CALNAME:Arts Council for Monterey County
X-ORIGINAL-URL:https://arts4mc.org
X-WR-CALDESC:Events for Arts Council for Monterey County
REFRESH-INTERVAL;VALUE=DURATION:PT1H
X-Robots-Tag:noindex
X-PUBLISHED-TTL:PT1H
BEGIN:VTIMEZONE
TZID:America/Los_Angeles
BEGIN:DAYLIGHT
TZOFFSETFROM:-0800
TZOFFSETTO:-0700
TZNAME:PDT
DTSTART:20240310T100000
END:DAYLIGHT
BEGIN:STANDARD
TZOFFSETFROM:-0700
TZOFFSETTO:-0800
TZNAME:PST
DTSTART:20241103T090000
END:STANDARD
BEGIN:DAYLIGHT
TZOFFSETFROM:-0800
TZOFFSETTO:-0700
TZNAME:PDT
DTSTART:20250309T100000
END:DAYLIGHT
BEGIN:STANDARD
TZOFFSETFROM:-0700
TZOFFSETTO:-0800
TZNAME:PST
DTSTART:20251102T090000
END:STANDARD
BEGIN:DAYLIGHT
TZOFFSETFROM:-0800
TZOFFSETTO:-0700
TZNAME:PDT
DTSTART:20260308T100000
END:DAYLIGHT
BEGIN:STANDARD
TZOFFSETFROM:-0700
TZOFFSETTO:-0800
TZNAME:PST
DTSTART:20261101T090000
END:STANDARD
END:VTIMEZONE
BEGIN:VEVENT
DTSTART;TZID=America/Los_Angeles:20251106T183000
DTEND;TZID=America/Los_Angeles:20251106T200000
DTSTAMP:20260423T005824
CREATED:20251014T165410Z
LAST-MODIFIED:20251014T165410Z
UID:94721-1762453800-1762459200@arts4mc.org
SUMMARY:Carmel Jewish Film Festival returns Nov. 2–16  9 Films\, VIP receptions\, community dinners and sponsorship campaign Carmelbethisrael.org/cjff
DESCRIPTION:This November\, stories from around the world will take center stage as the 2025 Carmel Jewish Film Festival (CJFF) returns offering 9 compelling films to screens in Carmel\, Pacific Grove\, Sand City and Monterey. \nPresented by Congregation Beth Israel/CBI\, the festival begins with a Celebratory Opening Matinee on Sunday\, Nov. 2\, continues through Sunday\, Nov. 16\, and includes VIP receptions\, community dinners\, and conversations designed to spark dialogue and connection. \nThursday\, Nov. 6 Documentary Night — “The Other” (documentary\, 1:50) \nVenue: Congregation Beth Israel Social Hall\, (5716 Carmel Valley Road\, Carmel) \n6:30 p.m. — light snacks\n7 p.m. — film screening\nAbout the film\nAn award-winning exploration of Israelis and Palestinians confronting conflict and discovering shared humanity. Filmed against the backdrop of hostilities\, “The Other” is a profound portrait of dialogue\, empathy and the pursuit of peace.\nTrailer and information: The Other
URL:https://arts4mc.org/event/carmel-jewish-film-festival-returns-nov-2-16-9-films-vip-receptions-community-dinners-and-sponsorship-campaign-carmelbethisrael-org-cjff-2/
LOCATION:Congregation Beth Israel Social Hall\, 5716 Carmel Valley Road\, Carmel Valley\, CA\, 93923\, United States
ATTACH;FMTTYPE=image/jpeg:https://arts4mc.org/wp-content/uploads/2025/10/b5f9dbb07ef74287ee1655c9b937bf5acb57e6c7.jpg
ORGANIZER;CN="Congregation Beth Israel Social Hall%2C (5716 Carmel Valley Road%2C Carmel)":MAILTO:ShalomCBI@CarmelBethIsrael.org
GEO:36.5391932;-121.8745388
X-APPLE-STRUCTURED-LOCATION;VALUE=URI;X-ADDRESS=Congregation Beth Israel Social Hall 5716 Carmel Valley Road Carmel Valley CA 93923 United States;X-APPLE-RADIUS=500;X-TITLE=5716 Carmel Valley Road:geo:-121.8745388,36.5391932
END:VEVENT
END:VCALENDAR