BEGIN:VCALENDAR
VERSION:2.0
PRODID:-//Arts Council for Monterey County - ECPv6.15.14//NONSGML v1.0//EN
CALSCALE:GREGORIAN
METHOD:PUBLISH
X-WR-CALNAME:Arts Council for Monterey County
X-ORIGINAL-URL:https://arts4mc.org
X-WR-CALDESC:Events for Arts Council for Monterey County
REFRESH-INTERVAL;VALUE=DURATION:PT1H
X-Robots-Tag:noindex
X-PUBLISHED-TTL:PT1H
BEGIN:VTIMEZONE
TZID:America/Los_Angeles
BEGIN:DAYLIGHT
TZOFFSETFROM:-0800
TZOFFSETTO:-0700
TZNAME:PDT
DTSTART:20230312T100000
END:DAYLIGHT
BEGIN:STANDARD
TZOFFSETFROM:-0700
TZOFFSETTO:-0800
TZNAME:PST
DTSTART:20231105T090000
END:STANDARD
BEGIN:DAYLIGHT
TZOFFSETFROM:-0800
TZOFFSETTO:-0700
TZNAME:PDT
DTSTART:20240310T100000
END:DAYLIGHT
BEGIN:STANDARD
TZOFFSETFROM:-0700
TZOFFSETTO:-0800
TZNAME:PST
DTSTART:20241103T090000
END:STANDARD
BEGIN:DAYLIGHT
TZOFFSETFROM:-0800
TZOFFSETTO:-0700
TZNAME:PDT
DTSTART:20250309T100000
END:DAYLIGHT
BEGIN:STANDARD
TZOFFSETFROM:-0700
TZOFFSETTO:-0800
TZNAME:PST
DTSTART:20251102T090000
END:STANDARD
END:VTIMEZONE
BEGIN:VEVENT
DTSTART;TZID=America/Los_Angeles:20240517T110000
DTEND;TZID=America/Los_Angeles:20240517T210000
DTSTAMP:20260422T155526
CREATED:20240408T174805Z
LAST-MODIFIED:20240408T174805Z
UID:25133-1715943600-1715979600@arts4mc.org
SUMMARY:Carmel Art Festival
DESCRIPTION:The Carmel Art Festival is three-day series of art-related events centred around one of the premier plein air painting competitions in California.  Events include live music\, a sculpture demonstration\, art activities for families and more.  Award ceremony and VIP reception with live music and wine and good from some of Carmel’s most celebrated restaurants and tasting rooms on Friday\, May 17 from 6:00 – 9:00 p.m.
URL:https://arts4mc.org/event/carmel-art-festival/
LOCATION:Downtown Carmel\, Ocean Ave\, Carmel\, CA\, 93921\, United States
ATTACH;FMTTYPE=image/jpeg:https://arts4mc.org/wp-content/uploads/2024/04/Carmel-Art-Festival-063.jpg
GEO:36.5550961;-121.9195247
X-APPLE-STRUCTURED-LOCATION;VALUE=URI;X-ADDRESS=Downtown Carmel Ocean Ave Carmel CA 93921 United States;X-APPLE-RADIUS=500;X-TITLE=Ocean Ave:geo:-121.9195247,36.5550961
END:VEVENT
END:VCALENDAR