BEGIN:VCALENDAR
VERSION:2.0
PRODID:-//Arts Council for Monterey County - ECPv6.15.14//NONSGML v1.0//EN
CALSCALE:GREGORIAN
METHOD:PUBLISH
X-WR-CALNAME:Arts Council for Monterey County
X-ORIGINAL-URL:https://arts4mc.org
X-WR-CALDESC:Events for Arts Council for Monterey County
REFRESH-INTERVAL;VALUE=DURATION:PT1H
X-Robots-Tag:noindex
X-PUBLISHED-TTL:PT1H
BEGIN:VTIMEZONE
TZID:America/Los_Angeles
BEGIN:DAYLIGHT
TZOFFSETFROM:-0800
TZOFFSETTO:-0700
TZNAME:PDT
DTSTART:20230312T100000
END:DAYLIGHT
BEGIN:STANDARD
TZOFFSETFROM:-0700
TZOFFSETTO:-0800
TZNAME:PST
DTSTART:20231105T090000
END:STANDARD
BEGIN:DAYLIGHT
TZOFFSETFROM:-0800
TZOFFSETTO:-0700
TZNAME:PDT
DTSTART:20240310T100000
END:DAYLIGHT
BEGIN:STANDARD
TZOFFSETFROM:-0700
TZOFFSETTO:-0800
TZNAME:PST
DTSTART:20241103T090000
END:STANDARD
BEGIN:DAYLIGHT
TZOFFSETFROM:-0800
TZOFFSETTO:-0700
TZNAME:PDT
DTSTART:20250309T100000
END:DAYLIGHT
BEGIN:STANDARD
TZOFFSETFROM:-0700
TZOFFSETTO:-0800
TZNAME:PST
DTSTART:20251102T090000
END:STANDARD
END:VTIMEZONE
BEGIN:VEVENT
DTSTART;TZID=America/Los_Angeles:20241119T190000
DTEND;TZID=America/Los_Angeles:20241119T220000
DTSTAMP:20260423T092601
CREATED:20241104T212239Z
LAST-MODIFIED:20241104T212239Z
UID:43800-1732042800-1732053600@arts4mc.org
SUMMARY:CALIFORNIA BLUEGRASS REUNION  WITH OTTER OPRY
DESCRIPTION:Having brought the house down at their first two Otter Opry performances\, the California Bluegrass Reunion will be back on Tuesday\, November 19th at the United Methodist Church to do it again. This star-studded band is highlighted by the awesome fiddling of Chad Manning and features an abundance of original instrumentals from mandolinist John Reischman and banjo player Bill Evans. Anchoring the rhythm section is Jim Nunally on guitar and vocals\, Mike Witcher on Dobro\, and Sharon Gilchrist on bass. The show will open with a four-song set by Nell & Jim\, featuring Jim Nunally on vocals\, guitar and banjo\, with Nell Robinson on vocals and miniflute; this amazing duo delivers tight harmonies and original genre-bending music that will get the evening off to a sizzling start. Back to California Bluegrass Reunion: Grammy Award-winning John Reischman is a foundational mandolinist\, composer\, bandleader and musical educator in bluegrass and North American roots and folk music. Bill Evans – winner of the 2022 Steve Martin “Excellence in Banjo” Award – occupies a unique niche in the music world\, celebrated for his varied bluegrass banjo styles as well as his innovative original compositions. Jim Nunally is a musician\, composer\, record producer and teacher – all in addition to being one of the finest guitar players in the world. Chad Manning is a bluegrass\, old-time and swing fiddler who has performed with more famous bands than you can count. Sharon Gilchrist has long made her home in the American acoustic music scene\, performing on concert and festival stages all over North America. Growing up the youngest of five in a musical and artistic family in the suburbs of Los Angeles\, Mike Witcher found his voice playing the Dobro at the age of 14. These musicians have made music in various combinations for decades\, but this all-star performance is an incredible opportunity to see and hear them together. To describe the show as a once-in-a-lifetime (actually\, thrice-in-a-lifetime) opportunity is no exaggeration. The event includes a delicious dinner at 5:30pm ($12.50 before November 17th\, $17.50 at the door). Online sales will end at noon the day of the performance. 7pm. Monterey United Methodist Church\, 1 Soledad Drive\, Monterey. $40/show (CBA members $35; 15 and under free); $12.50-17.50/pre-show dinner. www.otteropry.org
URL:https://arts4mc.org/event/california-bluegrass-reunion-with-otter-opry/
LOCATION:Monterey United Methodist Church\, 1 Soledad Drive\, Monterey\, CA\, 93940\, United States
ATTACH;FMTTYPE=image/jpeg:https://arts4mc.org/wp-content/uploads/2024/10/CBR-photo-for-posting.jpg
ORGANIZER;CN="Otter Opry":MAILTO:larry@otteropry.org
END:VEVENT
END:VCALENDAR