BEGIN:VCALENDAR
VERSION:2.0
PRODID:-//Arts Council for Monterey County - ECPv6.15.14//NONSGML v1.0//EN
CALSCALE:GREGORIAN
METHOD:PUBLISH
X-WR-CALNAME:Arts Council for Monterey County
X-ORIGINAL-URL:https://arts4mc.org
X-WR-CALDESC:Events for Arts Council for Monterey County
REFRESH-INTERVAL;VALUE=DURATION:PT1H
X-Robots-Tag:noindex
X-PUBLISHED-TTL:PT1H
BEGIN:VTIMEZONE
TZID:America/Los_Angeles
BEGIN:DAYLIGHT
TZOFFSETFROM:-0800
TZOFFSETTO:-0700
TZNAME:PDT
DTSTART:20220313T100000
END:DAYLIGHT
BEGIN:STANDARD
TZOFFSETFROM:-0700
TZOFFSETTO:-0800
TZNAME:PST
DTSTART:20221106T090000
END:STANDARD
BEGIN:DAYLIGHT
TZOFFSETFROM:-0800
TZOFFSETTO:-0700
TZNAME:PDT
DTSTART:20230312T100000
END:DAYLIGHT
BEGIN:STANDARD
TZOFFSETFROM:-0700
TZOFFSETTO:-0800
TZNAME:PST
DTSTART:20231105T090000
END:STANDARD
BEGIN:DAYLIGHT
TZOFFSETFROM:-0800
TZOFFSETTO:-0700
TZNAME:PDT
DTSTART:20240310T100000
END:DAYLIGHT
BEGIN:STANDARD
TZOFFSETFROM:-0700
TZOFFSETTO:-0800
TZNAME:PST
DTSTART:20241103T090000
END:STANDARD
END:VTIMEZONE
BEGIN:VEVENT
DTSTART;TZID=America/Los_Angeles:20231202T193000
DTEND;TZID=America/Los_Angeles:20231202T213000
DTSTAMP:20260424T175655
CREATED:20230818T200347Z
LAST-MODIFIED:20230818T200347Z
UID:22623-1701545400-1701552600@arts4mc.org
SUMMARY:AZA- Tamazight music from Morocco in concert
DESCRIPTION:Palenke Arts proudly presents AZA band in concert – Amazight music from Morocco .\nAZA unites traditional Tamazight music\, indigenous to the Atlas Mountains of Morocco\, with the global influences of its diverse members. Evocative of Saharan-African blues\, yet with an original style that truly defies categorization\, AZA’s stirring performances feature deep\, danceable rhythms\, intricate string melodies\, and soaring\, soulful vocals. Visually dynamic and engaging performers\, AZA has been inspiring international audiences for more than 20 years.\nFounding members Fattah Abbou and Mohamed Aoualou are Imazighen native to the High Atlas mountain region of Morocco\, where they played and studied music for over twenty-five years\, and are recognized as master musicians. They formed the sextet AZA in Santa Cruz\, California\, after moving to the United States eight years ago. The unique exchange between the High Atlas and Californian musicians has proved potent; AZA has produced two albums of original compositions\, and performed at music festivals\, clubs\, and universities around the United States and abroad in Ireland\, Canada\, and Morocco.\nAZA’s endeavors are not limited to music. The Imazighen (incorrectly labeled “Berber”)\, are the indigenous people of North Africa whose recorded history dates back to 3300 years ago. Fattah and Mohamed have always been part of the Amazigh movement and struggle to revive a culture that has been marginalized for centuries. Through music and cultural events\, AZA continues to inspire awareness in people of all ages about the Amazigh culture\, that it may be recognized and appreciated among the indigenous cultures of the world.
URL:https://arts4mc.org/event/aza-tamazight-music-from-morocco-in-concert/
LOCATION:International School of Monterey\, 1720 Yosemite St\, Seaside\, CA\, 93955\, United States
ATTACH;FMTTYPE=image/jpeg:https://arts4mc.org/wp-content/uploads/2023/08/https-cdn.evbuc_.com-images-564875669-342355853147-1-original.20230730-172852.jpeg
ORGANIZER;CN="Palenke Arts":MAILTO:info@palenkearts.org
GEO:36.6128817;-121.8273032
X-APPLE-STRUCTURED-LOCATION;VALUE=URI;X-ADDRESS=International School of Monterey 1720 Yosemite St Seaside CA 93955 United States;X-APPLE-RADIUS=500;X-TITLE=1720 Yosemite St:geo:-121.8273032,36.6128817
END:VEVENT
END:VCALENDAR