BEGIN:VCALENDAR
VERSION:2.0
PRODID:-//Arts Council for Monterey County - ECPv6.15.14//NONSGML v1.0//EN
CALSCALE:GREGORIAN
METHOD:PUBLISH
X-WR-CALNAME:Arts Council for Monterey County
X-ORIGINAL-URL:https://arts4mc.org
X-WR-CALDESC:Events for Arts Council for Monterey County
REFRESH-INTERVAL;VALUE=DURATION:PT1H
X-Robots-Tag:noindex
X-PUBLISHED-TTL:PT1H
BEGIN:VTIMEZONE
TZID:America/Los_Angeles
BEGIN:DAYLIGHT
TZOFFSETFROM:-0800
TZOFFSETTO:-0700
TZNAME:PDT
DTSTART:20230312T100000
END:DAYLIGHT
BEGIN:STANDARD
TZOFFSETFROM:-0700
TZOFFSETTO:-0800
TZNAME:PST
DTSTART:20231105T090000
END:STANDARD
BEGIN:DAYLIGHT
TZOFFSETFROM:-0800
TZOFFSETTO:-0700
TZNAME:PDT
DTSTART:20240310T100000
END:DAYLIGHT
BEGIN:STANDARD
TZOFFSETFROM:-0700
TZOFFSETTO:-0800
TZNAME:PST
DTSTART:20241103T090000
END:STANDARD
BEGIN:DAYLIGHT
TZOFFSETFROM:-0800
TZOFFSETTO:-0700
TZNAME:PDT
DTSTART:20250309T100000
END:DAYLIGHT
BEGIN:STANDARD
TZOFFSETFROM:-0700
TZOFFSETTO:-0800
TZNAME:PST
DTSTART:20251102T090000
END:STANDARD
END:VTIMEZONE
BEGIN:VEVENT
DTSTART;TZID=America/Los_Angeles:20241222T093000
DTEND;TZID=America/Los_Angeles:20241222T110000
DTSTAMP:20260423T164356
CREATED:20241122T231031Z
LAST-MODIFIED:20241122T231031Z
UID:50176-1734859800-1734865200@arts4mc.org
SUMMARY:Arts and Healing: Sound Bath
DESCRIPTION:Sound has been used for thousands of years because for its healing properties that target us on a physiological and spiritual level. These instruments are tuned to activate different centers and glands within the body to enhance the structures. Think of it as detox for your nervous system. You will leave feeling renewed and rested from just a short time of work. Please bring warm comfortable clothes to lie in\, as well as a mat\, blanket\, eye pillow\, and a journal. Anything that helps you remain comfortable while lying on the floor for a period of time. Advance registration is required due to limited space.
URL:https://arts4mc.org/event/arts-and-healing-sound-bath/
LOCATION:559 Pacific St\, Monterey\, CA\, United States\, California
ATTACH;FMTTYPE=image/jpeg:https://arts4mc.org/wp-content/uploads/2024/11/Sound-bath.jpg
ORGANIZER;CN="Monterey Museum of Art":MAILTO:info@montereyart.org
END:VEVENT
END:VCALENDAR