BEGIN:VCALENDAR
VERSION:2.0
PRODID:-//Arts Council for Monterey County - ECPv6.15.14//NONSGML v1.0//EN
CALSCALE:GREGORIAN
METHOD:PUBLISH
X-WR-CALNAME:Arts Council for Monterey County
X-ORIGINAL-URL:https://arts4mc.org
X-WR-CALDESC:Events for Arts Council for Monterey County
REFRESH-INTERVAL;VALUE=DURATION:PT1H
X-Robots-Tag:noindex
X-PUBLISHED-TTL:PT1H
BEGIN:VTIMEZONE
TZID:America/Los_Angeles
BEGIN:DAYLIGHT
TZOFFSETFROM:-0800
TZOFFSETTO:-0700
TZNAME:PDT
DTSTART:20220313T100000
END:DAYLIGHT
BEGIN:STANDARD
TZOFFSETFROM:-0700
TZOFFSETTO:-0800
TZNAME:PST
DTSTART:20221106T090000
END:STANDARD
BEGIN:DAYLIGHT
TZOFFSETFROM:-0800
TZOFFSETTO:-0700
TZNAME:PDT
DTSTART:20230312T100000
END:DAYLIGHT
BEGIN:STANDARD
TZOFFSETFROM:-0700
TZOFFSETTO:-0800
TZNAME:PST
DTSTART:20231105T090000
END:STANDARD
BEGIN:DAYLIGHT
TZOFFSETFROM:-0800
TZOFFSETTO:-0700
TZNAME:PDT
DTSTART:20240310T100000
END:DAYLIGHT
BEGIN:STANDARD
TZOFFSETFROM:-0700
TZOFFSETTO:-0800
TZNAME:PST
DTSTART:20241103T090000
END:STANDARD
END:VTIMEZONE
BEGIN:VEVENT
DTSTART;TZID=America/Los_Angeles:20230930T170000
DTEND;TZID=America/Los_Angeles:20230930T220000
DTSTAMP:20260425T115414
CREATED:20230727T052307Z
LAST-MODIFIED:20230727T052307Z
UID:22351-1696093200-1696111200@arts4mc.org
SUMMARY:Annual Fundraiser & Celebration
DESCRIPTION:Cheers to 15 years!\nWe want to thank all of our sponsors\, grantors\, & supporters. Thanks to you all we are celebrating our 15 years! \nAt Sol Treasures\, our motto is to create\, share\, and celebrate everything we do\, from art\, crafts\, productions\, and music!  \nPlease join us for this celebration on Saturday\, September 30th from 5- 10 pm.  \nOrradre Building 625 Division St. King City\, CA 93930.  \n5-6 pm: Cocktail Hour \n6-7 pm: Dinner \n7-8 pm: Sol Treasures Showcase \n8-10 pm: Celebrate! Music by Monterey County Line \nCome Dance the night away with us!
URL:https://arts4mc.org/event/annual-fundraiser-celebration/
LOCATION:Orradre Building\, 625 Division St.\, King City\, CA\, 93930\, United States
ATTACH;FMTTYPE=image/jpeg:https://arts4mc.org/wp-content/uploads/2023/07/English.jpg
ORGANIZER;CN="Sol Treasures":MAILTO:celebrate@soltreasures.com
GEO:36.2059942;-121.1272724
X-APPLE-STRUCTURED-LOCATION;VALUE=URI;X-ADDRESS=Orradre Building 625 Division St. King City CA 93930 United States;X-APPLE-RADIUS=500;X-TITLE=625 Division St.:geo:-121.1272724,36.2059942
END:VEVENT
END:VCALENDAR