BEGIN:VCALENDAR
VERSION:2.0
PRODID:-//Arts Council for Monterey County - ECPv6.15.14//NONSGML v1.0//EN
CALSCALE:GREGORIAN
METHOD:PUBLISH
X-WR-CALNAME:Arts Council for Monterey County
X-ORIGINAL-URL:https://arts4mc.org
X-WR-CALDESC:Events for Arts Council for Monterey County
REFRESH-INTERVAL;VALUE=DURATION:PT1H
X-Robots-Tag:noindex
X-PUBLISHED-TTL:PT1H
BEGIN:VTIMEZONE
TZID:America/Los_Angeles
BEGIN:DAYLIGHT
TZOFFSETFROM:-0800
TZOFFSETTO:-0700
TZNAME:PDT
DTSTART:20250309T100000
END:DAYLIGHT
BEGIN:STANDARD
TZOFFSETFROM:-0700
TZOFFSETTO:-0800
TZNAME:PST
DTSTART:20251102T090000
END:STANDARD
BEGIN:DAYLIGHT
TZOFFSETFROM:-0800
TZOFFSETTO:-0700
TZNAME:PDT
DTSTART:20260308T100000
END:DAYLIGHT
BEGIN:STANDARD
TZOFFSETFROM:-0700
TZOFFSETTO:-0800
TZNAME:PST
DTSTART:20261101T090000
END:STANDARD
BEGIN:DAYLIGHT
TZOFFSETFROM:-0800
TZOFFSETTO:-0700
TZNAME:PDT
DTSTART:20270314T100000
END:DAYLIGHT
BEGIN:STANDARD
TZOFFSETFROM:-0700
TZOFFSETTO:-0800
TZNAME:PST
DTSTART:20271107T090000
END:STANDARD
END:VTIMEZONE
BEGIN:VEVENT
DTSTART;TZID=America/Los_Angeles:20260822T020000
DTEND;TZID=America/Los_Angeles:20260822T153000
DTSTAMP:20260421T065651
CREATED:20260420T194845Z
LAST-MODIFIED:20260420T194845Z
UID:99006-1787364000-1787412600@arts4mc.org
SUMMARY:Afternoon with the Curator: Cynthia Wagner Weick and Joaquin Turner
DESCRIPTION:Join MMA in the galleries for an inspiring afternoon with guest curators Cynthia Wagner Weick and Joaquin Turner as they share their insights into A Visual History of Art and Architecture in Monterey. \nAdvance purchase is required. Seating is limited\, so we recommend reserving your tickets early. \n$5 MMA Members\, Students\, Military\, Under 18\, and SNAP Participants with EBT \n$20 General Admission. Includes an admission pass to MMA – Pacific Street.
URL:https://arts4mc.org/event/afternoon-with-the-curator-cynthia-wagner-weick-and-joaquin-turner/
LOCATION:559 Pacific St\, Monterey\, CA\, United States\, California
ATTACH;FMTTYPE=image/jpeg:https://arts4mc.org/wp-content/uploads/2026/04/393.jpg
ORGANIZER;CN="Monterey Museum of Art":MAILTO:info@montereyart.org
END:VEVENT
END:VCALENDAR