BEGIN:VCALENDAR
VERSION:2.0
PRODID:-//Arts Council for Monterey County - ECPv6.15.14//NONSGML v1.0//EN
CALSCALE:GREGORIAN
METHOD:PUBLISH
X-WR-CALNAME:Arts Council for Monterey County
X-ORIGINAL-URL:https://arts4mc.org
X-WR-CALDESC:Events for Arts Council for Monterey County
REFRESH-INTERVAL;VALUE=DURATION:PT1H
X-Robots-Tag:noindex
X-PUBLISHED-TTL:PT1H
BEGIN:VTIMEZONE
TZID:America/Los_Angeles
BEGIN:DAYLIGHT
TZOFFSETFROM:-0800
TZOFFSETTO:-0700
TZNAME:PDT
DTSTART:20250309T100000
END:DAYLIGHT
BEGIN:STANDARD
TZOFFSETFROM:-0700
TZOFFSETTO:-0800
TZNAME:PST
DTSTART:20251102T090000
END:STANDARD
BEGIN:DAYLIGHT
TZOFFSETFROM:-0800
TZOFFSETTO:-0700
TZNAME:PDT
DTSTART:20260308T100000
END:DAYLIGHT
BEGIN:STANDARD
TZOFFSETFROM:-0700
TZOFFSETTO:-0800
TZNAME:PST
DTSTART:20261101T090000
END:STANDARD
BEGIN:DAYLIGHT
TZOFFSETFROM:-0800
TZOFFSETTO:-0700
TZNAME:PDT
DTSTART:20270314T100000
END:DAYLIGHT
BEGIN:STANDARD
TZOFFSETFROM:-0700
TZOFFSETTO:-0800
TZNAME:PST
DTSTART:20271107T090000
END:STANDARD
END:VTIMEZONE
BEGIN:VEVENT
DTSTART;TZID=America/Los_Angeles:20260711T140000
DTEND;TZID=America/Los_Angeles:20260711T153000
DTSTAMP:20260425T132542
CREATED:20260420T194831Z
LAST-MODIFIED:20260420T194831Z
UID:98994-1783778400-1783783800@arts4mc.org
SUMMARY:Afternoon with the Curator: Cydney Payton
DESCRIPTION:Join MMA in the galleries for an inspiring afternoon with guest curator Cydney Payton and artist Jane Olin as they share their insights into Jane Olin: Some Trees. \nAdvance purchase is required. Seating is limited\, so we recommend reserving your tickets early. \n$5 MMA Members\, Students\, Military\, Under 18\, and SNAP Participants with EBT \n$20 General Admission. Includes an admission pass to MMA – Pacific Street. \nAbout the Curator\nCydney Payton is an independent curator and writer\, and former CEO and Chief Curator of the Museum of Contemporary Art Denver and the Boulder Museum of Contemporary Art. At MCA Denver\, she led the architectural process and campaign to build the first Gold LEED-certified museum in the US. Her leadership in the arts has been acknowledged by The New York Times\, The Denver Post\, Artforum\, and Art in America. She has served as a nominator for the MacArthur Fellowship and as a juror for the Taishin Art Awards Taiwan and Creative Capital. As a co-juror with Spike Lee\, she selected Shepherd Fairey’s HOPE to represent the 2008 Obama Campaign. Since the late 1980s\, Payton has curated groundbreaking exhibitions by such artists as David Altmejd\, Morley Baer\, Lynda Benglis\, Yu-Chen Chou\, Brad Kahlhamer\, Susanne Kühn\, Roberto Behar\, and Rosario Marquardt\, Wangechi Mutu\, Arlene Shechet\, Collier Schorr\, and Fischli & Weiss\, to name a few. Payton holds an MA in Curatorial Practice from California College of the Arts\, with an emphasis on Architectural History and Theory.
URL:https://arts4mc.org/event/afternoon-with-the-curator-cydney-payton/
LOCATION:Monterey Museum of Art\, 559 Pacific Street\, Monterey\, CA 93940\, 559 Pacific Street\, Monterey\, 93940
ATTACH;FMTTYPE=image/jpeg:https://arts4mc.org/wp-content/uploads/2026/04/395.jpg
ORGANIZER;CN="Monterey Museum of Art":MAILTO:info@montereyart.org
GEO:36.5974996;-121.8966197
X-APPLE-STRUCTURED-LOCATION;VALUE=URI;X-ADDRESS=Monterey Museum of Art 559 Pacific Street Monterey CA 93940 559 Pacific Street Monterey 93940;X-APPLE-RADIUS=500;X-TITLE=559 Pacific Street:geo:-121.8966197,36.5974996
END:VEVENT
END:VCALENDAR